BEGIN:VCALENDAR
VERSION:2.0
PRODID:-//Encore at Avalon Park - ECPv6.15.20//NONSGML v1.0//EN
CALSCALE:GREGORIAN
METHOD:PUBLISH
X-WR-CALNAME:Encore at Avalon Park
X-ORIGINAL-URL:https://encoreatavalonpark.com
X-WR-CALDESC:Events for Encore at Avalon Park
REFRESH-INTERVAL;VALUE=DURATION:PT1H
X-Robots-Tag:noindex
X-PUBLISHED-TTL:PT1H
BEGIN:VTIMEZONE
TZID:America/New_York
BEGIN:DAYLIGHT
TZOFFSETFROM:-0500
TZOFFSETTO:-0400
TZNAME:EDT
DTSTART:20150308T070000
END:DAYLIGHT
BEGIN:STANDARD
TZOFFSETFROM:-0400
TZOFFSETTO:-0500
TZNAME:EST
DTSTART:20151101T060000
END:STANDARD
BEGIN:DAYLIGHT
TZOFFSETFROM:-0500
TZOFFSETTO:-0400
TZNAME:EDT
DTSTART:20160313T070000
END:DAYLIGHT
BEGIN:STANDARD
TZOFFSETFROM:-0400
TZOFFSETTO:-0500
TZNAME:EST
DTSTART:20161106T060000
END:STANDARD
BEGIN:DAYLIGHT
TZOFFSETFROM:-0500
TZOFFSETTO:-0400
TZNAME:EDT
DTSTART:20170312T070000
END:DAYLIGHT
BEGIN:STANDARD
TZOFFSETFROM:-0400
TZOFFSETTO:-0500
TZNAME:EST
DTSTART:20171105T060000
END:STANDARD
END:VTIMEZONE
BEGIN:VEVENT
DTSTART;TZID=America/New_York:20160915T180000
DTEND;TZID=America/New_York:20160915T200000
DTSTAMP:20260420T074505
CREATED:20160719T152242Z
LAST-MODIFIED:20160719T152242Z
UID:1520-1473962400-1473969600@encoreatavalonpark.com
SUMMARY:Golden Years Symposium
DESCRIPTION:
URL:https://encoreatavalonpark.com/event/golden-years-symposium/
LOCATION:Encore at Avalon Park\, 13798 Cygnus Drive\, Orlando\, FL\, 32828\, United States
CATEGORIES:Community
END:VEVENT
BEGIN:VEVENT
DTSTART;TZID=America/New_York:20160908T160000
DTEND;TZID=America/New_York:20160908T170000
DTSTAMP:20260420T074505
CREATED:20160829T152728Z
LAST-MODIFIED:20160829T152728Z
UID:1591-1473350400-1473354000@encoreatavalonpark.com
SUMMARY:Meet and Greet our Staff
DESCRIPTION:
URL:https://encoreatavalonpark.com/event/meet-greet-staff/
LOCATION:Encore at Avalon Park\, 13798 Cygnus Drive\, Orlando\, FL\, 32828\, United States
CATEGORIES:Community
END:VEVENT
BEGIN:VEVENT
DTSTART;TZID=America/New_York:20160829T090000
DTEND;TZID=America/New_York:20160829T170000
DTSTAMP:20260420T074505
CREATED:20160823T185007Z
LAST-MODIFIED:20160823T185007Z
UID:1577-1472461200-1472490000@encoreatavalonpark.com
SUMMARY:Job Fair
DESCRIPTION:
URL:https://encoreatavalonpark.com/event/job-fair-3/
LOCATION:Encore at Avalon Park\, 13798 Cygnus Drive\, Orlando\, FL\, 32828\, United States
CATEGORIES:Community
END:VEVENT
BEGIN:VEVENT
DTSTART;TZID=America/New_York:20160825T150000
DTEND;TZID=America/New_York:20160825T170000
DTSTAMP:20260420T074505
CREATED:20160822T123955Z
LAST-MODIFIED:20160822T123955Z
UID:1571-1472137200-1472144400@encoreatavalonpark.com
SUMMARY:Senior Bingo Bash
DESCRIPTION:
URL:https://encoreatavalonpark.com/event/senior-bingo-bash-2/
LOCATION:Eastside Bistro\, 12001 Avalon Lake Dr\, Suite F\, Orlando\, FL\, 32828\, United States
CATEGORIES:Community
END:VEVENT
BEGIN:VEVENT
DTSTART;TZID=America/New_York:20160816T180000
DTEND;TZID=America/New_York:20160816T190000
DTSTAMP:20260420T074505
CREATED:20160707T142225Z
LAST-MODIFIED:20160808T195955Z
UID:1401-1471370400-1471374000@encoreatavalonpark.com
SUMMARY:Alzheimer's Support Group
DESCRIPTION:
URL:https://encoreatavalonpark.com/event/alzheimers-support-group-7/
LOCATION:Carnegie Hall
CATEGORIES:Community
END:VEVENT
BEGIN:VEVENT
DTSTART;TZID=America/New_York:20160811T150000
DTEND;TZID=America/New_York:20160811T170000
DTSTAMP:20260420T074505
CREATED:20160808T183607Z
LAST-MODIFIED:20160808T183607Z
UID:1536-1470927600-1470934800@encoreatavalonpark.com
SUMMARY:Senior Bingo Bash
DESCRIPTION:
URL:https://encoreatavalonpark.com/event/senior-bingo-bash/
LOCATION:Eastside Bistro\, 12001 Avalon Lake Dr\, Suite F\, Orlando\, FL\, 32828\, United States
CATEGORIES:Community
END:VEVENT
BEGIN:VEVENT
DTSTART;TZID=America/New_York:20160811T113000
DTEND;TZID=America/New_York:20160811T130000
DTSTAMP:20260420T074505
CREATED:20160719T153537Z
LAST-MODIFIED:20160719T153537Z
UID:1522-1470915000-1470920400@encoreatavalonpark.com
SUMMARY:Compassion\, Fatigue and You
DESCRIPTION:
URL:https://encoreatavalonpark.com/event/compassion-fatigue-and-you/
LOCATION:Encore at Avalon Park\, 13798 Cygnus Drive\, Orlando\, FL\, 32828\, United States
CATEGORIES:Community
END:VEVENT
BEGIN:VEVENT
DTSTART;TZID=America/New_York:20160806T090000
DTEND;TZID=America/New_York:20160806T120000
DTSTAMP:20260420T074505
CREATED:20160718T175325Z
LAST-MODIFIED:20160718T175325Z
UID:1517-1470474000-1470484800@encoreatavalonpark.com
SUMMARY:Back To School Bash
DESCRIPTION:
URL:https://encoreatavalonpark.com/event/back-school-bash/
LOCATION:Encore at Avalon Park\, 13798 Cygnus Drive\, Orlando\, FL\, 32828\, United States
CATEGORIES:Community
END:VEVENT
BEGIN:VEVENT
DTSTART;TZID=America/New_York:20160802T180000
DTEND;TZID=America/New_York:20160802T200000
DTSTAMP:20260420T074505
CREATED:20160715T190801Z
LAST-MODIFIED:20160718T133833Z
UID:1501-1470160800-1470168000@encoreatavalonpark.com
SUMMARY:LTC Seminar
DESCRIPTION:
URL:https://encoreatavalonpark.com/event/ltc-seminar/
LOCATION:Encore at Avalon Park\, 13798 Cygnus Drive\, Orlando\, FL\, 32828\, United States
CATEGORIES:Community
END:VEVENT
BEGIN:VEVENT
DTSTART;TZID=America/New_York:20160719T180000
DTEND;TZID=America/New_York:20160719T200000
DTSTAMP:20260420T074505
CREATED:20160711T180503Z
LAST-MODIFIED:20160711T180503Z
UID:1438-1468951200-1468958400@encoreatavalonpark.com
SUMMARY:Lake Nona Networking Social
DESCRIPTION:
URL:https://encoreatavalonpark.com/event/lake-nona-networking-social/
LOCATION:310 Restaurant\, 10783 Narcoossee Road\, Orlando\, FL\, 32827\, United States
CATEGORIES:Community
END:VEVENT
BEGIN:VEVENT
DTSTART;TZID=America/New_York:20160621T180000
DTEND;TZID=America/New_York:20160621T200000
DTSTAMP:20260420T074505
CREATED:20160322T215239Z
LAST-MODIFIED:20160322T215239Z
UID:553-1466532000-1466539200@encoreatavalonpark.com
SUMMARY:Alzheimer's Support Group
DESCRIPTION:
URL:https://encoreatavalonpark.com/event/alzheimers-support-group-5/
LOCATION:FL
CATEGORIES:Community
ATTACH;FMTTYPE=image/jpeg:https://encoreatavalonpark.com/wp-content/uploads/2016/03/Alzheimers-Support-Group-June-21.jpg
END:VEVENT
BEGIN:VEVENT
DTSTART;TZID=America/New_York:20160616T113000
DTEND;TZID=America/New_York:20160616T130000
DTSTAMP:20260420T074505
CREATED:20160613T210329Z
LAST-MODIFIED:20160613T210330Z
UID:1112-1466076600-1466082000@encoreatavalonpark.com
SUMMARY:FALA Orange/Osceola/Seminole Counties Chapter Meeting & Lunch
DESCRIPTION:Speaker \nShad Haston\, CEO \nFlorida Assisted Living Association \n   \nTopic \n“Administrative and Legislative Updates \non Proposed Changes in Assisted Living Rules” \n  \n  \nHost Location \nEncore at Avalon Park Assisted Living & Memory Care \n13798 Cygnus Dr.\, Orlando FL 32828 \nFor Directions Call (407) 270-7500 \n  \nCost to Attend (Lunch Included) \nFree to FALA Members \n$10.00 for Non-Members \n  \n1 CEU Provided \n  \n  \nCLICK HERE TO REGISTER NOW! \n  \n Pre-registration by June 14th is requested \nso we may plan accordingly.  Thank you! \n  \n  \nQuestions???  Contact the FALA office at (850) 383-1159.
URL:https://encoreatavalonpark.com/event/fala-orangeosceolaseminole-counties-chapter-meeting-lunch/
LOCATION:Carnegie Hall
CATEGORIES:Community
END:VEVENT
BEGIN:VEVENT
DTSTART;TZID=America/New_York:20160519T180000
DTEND;TZID=America/New_York:20160519T200000
DTSTAMP:20260420T074505
CREATED:20160510T220656Z
LAST-MODIFIED:20160510T220701Z
UID:1013-1463680800-1463688000@encoreatavalonpark.com
SUMMARY:Veteran's Fair
DESCRIPTION:
URL:https://encoreatavalonpark.com/event/veterans-fair/
LOCATION:Carnegie Hall
CATEGORIES:Community
ATTACH;FMTTYPE=image/gif:https://encoreatavalonpark.com/wp-content/uploads/2016/05/Veterans-Fair.gif
END:VEVENT
BEGIN:VEVENT
DTSTART;TZID=America/New_York:20160517T180000
DTEND;TZID=America/New_York:20160517T200000
DTSTAMP:20260420T074505
CREATED:20160322T215150Z
LAST-MODIFIED:20160322T215151Z
UID:551-1463508000-1463515200@encoreatavalonpark.com
SUMMARY:Alzheimer's Support Group
DESCRIPTION:
URL:https://encoreatavalonpark.com/event/alzheimers-support-group-4/
LOCATION:Carnegie Hall
CATEGORIES:Community
ATTACH;FMTTYPE=image/jpeg:https://encoreatavalonpark.com/wp-content/uploads/2016/03/Alzheimers-Support-Group-May-17.jpg
END:VEVENT
BEGIN:VEVENT
DTSTART;TZID=America/New_York:20160426T180000
DTEND;TZID=America/New_York:20160426T200000
DTSTAMP:20260420T074505
CREATED:20160420T183152Z
LAST-MODIFIED:20160420T183154Z
UID:570-1461693600-1461700800@encoreatavalonpark.com
SUMMARY:How to Pay for Long-Term Care
DESCRIPTION:
URL:https://encoreatavalonpark.com/event/pay-long-term-care/
LOCATION:Carnegie Hall
CATEGORIES:Community
ATTACH;FMTTYPE=image/gif:https://encoreatavalonpark.com/wp-content/uploads/2016/04/Elder-Law-101.gif
END:VEVENT
BEGIN:VEVENT
DTSTART;TZID=America/New_York:20160419T180000
DTEND;TZID=America/New_York:20160419T200000
DTSTAMP:20260420T074505
CREATED:20160322T215051Z
LAST-MODIFIED:20160322T215056Z
UID:549-1461088800-1461096000@encoreatavalonpark.com
SUMMARY:Alzheimer's Support Group
DESCRIPTION:
URL:https://encoreatavalonpark.com/event/alzheimers-support-group-3/
LOCATION:Carnegie Hall
CATEGORIES:Community
ATTACH;FMTTYPE=image/jpeg:https://encoreatavalonpark.com/wp-content/uploads/2016/03/Alzheimers-Support-Group-April-19.jpg
END:VEVENT
BEGIN:VEVENT
DTSTART;TZID=America/New_York:20160409T150000
DTEND;TZID=America/New_York:20160409T170000
DTSTAMP:20260420T074505
CREATED:20160322T214942Z
LAST-MODIFIED:20160322T214943Z
UID:547-1460214000-1460221200@encoreatavalonpark.com
SUMMARY:Alive Inside
DESCRIPTION:
URL:https://encoreatavalonpark.com/event/alive-inside/
LOCATION:Avalon Church\, 13460 Tanja King Blvd.\, Orlando\, FL\, 32828\, United States
CATEGORIES:Community
ATTACH;FMTTYPE=image/jpeg:https://encoreatavalonpark.com/wp-content/uploads/2016/03/poster_11x17_ORLANDO.jpg
END:VEVENT
BEGIN:VEVENT
DTSTART;TZID=America/New_York:20160402T090000
DTEND;TZID=America/New_York:20160402T110000
DTSTAMP:20260420T074505
CREATED:20160322T214649Z
LAST-MODIFIED:20160322T214653Z
UID:543-1459587600-1459594800@encoreatavalonpark.com
SUMMARY:Senior Pancake Breakfast
DESCRIPTION:
URL:https://encoreatavalonpark.com/event/senior-pancake-breakfast-2/
LOCATION:Carnegie Hall
CATEGORIES:Community
ATTACH;FMTTYPE=image/jpeg:https://encoreatavalonpark.com/wp-content/uploads/2016/03/Pancake-Flyer-Apr-2-2016-Encore.jpg
END:VEVENT
BEGIN:VEVENT
DTSTART;TZID=America/New_York:20160331T113000
DTEND;TZID=America/New_York:20160331T133000
DTSTAMP:20260420T074505
CREATED:20160322T214209Z
LAST-MODIFIED:20160322T214209Z
UID:538-1459423800-1459431000@encoreatavalonpark.com
SUMMARY:East Orlando Health Network
DESCRIPTION:
URL:https://encoreatavalonpark.com/event/east-orlando-health-network/
LOCATION:Carnegie Hall
CATEGORIES:Community
END:VEVENT
BEGIN:VEVENT
DTSTART;TZID=America/New_York:20160328T140000
DTEND;TZID=America/New_York:20160328T170000
DTSTAMP:20260420T074505
CREATED:20160322T214820Z
LAST-MODIFIED:20160322T214820Z
UID:545-1459173600-1459184400@encoreatavalonpark.com
SUMMARY:Job Fair
DESCRIPTION:
URL:https://encoreatavalonpark.com/event/job-fair-2/
LOCATION:Carnegie Hall
CATEGORIES:Community
ATTACH;FMTTYPE=image/jpeg:https://encoreatavalonpark.com/wp-content/uploads/2016/03/Job-Fair.jpg
END:VEVENT
BEGIN:VEVENT
DTSTART;TZID=America/New_York:20160323T100000
DTEND;TZID=America/New_York:20160323T140000
DTSTAMP:20260420T074505
CREATED:20160322T214453Z
LAST-MODIFIED:20160322T214545Z
UID:540-1458727200-1458741600@encoreatavalonpark.com
SUMMARY:Brain Injury & Health Awareness
DESCRIPTION:
URL:https://encoreatavalonpark.com/event/brain-injury-health-awareness/
LOCATION:FL
CATEGORIES:Community
ATTACH;FMTTYPE=image/jpeg:https://encoreatavalonpark.com/wp-content/uploads/2016/03/Brain-Injury-Awareness-Flyer-002_Page_1.jpg
END:VEVENT
BEGIN:VEVENT
DTSTART;TZID=America/New_York:20160315T180000
DTEND;TZID=America/New_York:20160315T190000
DTSTAMP:20260420T074505
CREATED:20160302T175733Z
LAST-MODIFIED:20160302T182544Z
UID:533-1458064800-1458068400@encoreatavalonpark.com
SUMMARY:Alzheimer's Support Group
DESCRIPTION:The diagnosis of Alzheimer’s and other memory care diseases can be scary. Speaking with others who are familiar with the diagnosis and are going through the same challenges can be comforting and help with gaining understanding. Encore at Avalon Park has teamed up with local experts to put together a support community for those facing similar challenges in relation to senior living. Please join us to share\, examine care giving strategies and just to come together as a community.
URL:https://encoreatavalonpark.com/event/alzheimers-support-group-2/
LOCATION:Carnegie Hall
CATEGORIES:Community
ATTACH;FMTTYPE=image/jpeg:https://encoreatavalonpark.com/wp-content/uploads/2016/03/Alzheimers-Support-Group-March-15.jpg
END:VEVENT
BEGIN:VEVENT
DTSTART;TZID=America/New_York:20160304T180000
DTEND;TZID=America/New_York:20160304T200000
DTSTAMP:20260420T074505
CREATED:20160205T195505Z
LAST-MODIFIED:20160205T195510Z
UID:509-1457114400-1457121600@encoreatavalonpark.com
SUMMARY:Fish Fry
DESCRIPTION:St. Maximililan Kolbe and Encore are hosting Lenten Fish Friday. Advance tickets for seatings at 6:00\, 6:30\, 7:00 and 7:30p.m. Unlimited to-go boxes. Portion of the proceeds will benefit Encore’s Walk to End Alzheimer’s.
URL:https://encoreatavalonpark.com/event/fish-fry/
LOCATION:Carnegie Hall
CATEGORIES:Community
END:VEVENT
BEGIN:VEVENT
DTSTART;TZID=America/New_York:20160228T160000
DTEND;TZID=America/New_York:20160228T173000
DTSTAMP:20260420T074505
CREATED:20160205T194342Z
LAST-MODIFIED:20160205T194346Z
UID:506-1456675200-1456680600@encoreatavalonpark.com
SUMMARY:1-Dish Cooking Class
DESCRIPTION:Ditch the diet! Eat Clean 1-Dish at a time! Every Sunday enjoy a fresh\, clean Eating Cooking Class. Take home printed materials. All classes are based on healthy cooking techniques and selected shows will be aired on TV! RSVP: ChefRich@1-Dish.com. Cost is $30/pp.
URL:https://encoreatavalonpark.com/event/1-dish-cooking-class-3/
LOCATION:Carnegie Hall
CATEGORIES:Community
END:VEVENT
BEGIN:VEVENT
DTSTART;TZID=America/New_York:20160221T160000
DTEND;TZID=America/New_York:20160221T173000
DTSTAMP:20260420T074505
CREATED:20160205T194247Z
LAST-MODIFIED:20160205T194252Z
UID:505-1456070400-1456075800@encoreatavalonpark.com
SUMMARY:1-Dish Cooking Class
DESCRIPTION:Ditch the diet! Eat Clean 1-Dish at a time! Every Sunday enjoy a fresh\, clean Eating Cooking Class. Take home printed materials. All classes are based on healthy cooking techniques and selected shows will be aired on TV! RSVP: ChefRich@1-Dish.com. Cost is $30/pp.
URL:https://encoreatavalonpark.com/event/1-dish-cooking-class-2/
LOCATION:Carnegie Hall
CATEGORIES:Community
END:VEVENT
BEGIN:VEVENT
DTSTART;TZID=America/New_York:20160216T180000
DTEND;TZID=America/New_York:20160216T200000
DTSTAMP:20260420T074505
CREATED:20160205T183326Z
LAST-MODIFIED:20160205T183810Z
UID:498-1455645600-1455652800@encoreatavalonpark.com
SUMMARY:Alzheimer's Support Group
DESCRIPTION:The diagnosis of Alzheimer’s and other memory care diseases can be scary.  Speaking with others who are familiar with the diagnosis and are going through the same challenges can be comforting and help with gaining understanding.  Encore at Avalon Park has teamed up with local experts to put together a support community for those facing similar challenges in relation to senior living.  Please join us to share\, examine care giving strategies and just to come together as a community.
URL:https://encoreatavalonpark.com/event/alzheimers-support-group/
LOCATION:Carnegie Hall
CATEGORIES:Community
END:VEVENT
BEGIN:VEVENT
DTSTART;TZID=America/New_York:20160214T160000
DTEND;TZID=America/New_York:20160214T173000
DTSTAMP:20260420T074505
CREATED:20160205T194156Z
LAST-MODIFIED:20160205T194159Z
UID:504-1455465600-1455471000@encoreatavalonpark.com
SUMMARY:1-Dish Cooking Class
DESCRIPTION:Ditch the diet! Eat Clean 1-Dish at a time! Every Sunday enjoy a fresh\, clean Eating Cooking Class. Take home printed materials. All classes are based on healthy cooking techniques and selected shows will be aired on TV! RSVP: ChefRich@1-Dish.com. Cost is $30/pp.
URL:https://encoreatavalonpark.com/event/1-dish-cooking-class/
LOCATION:Carnegie Hall
CATEGORIES:Community
END:VEVENT
BEGIN:VEVENT
DTSTART;TZID=America/New_York:20160209T183000
DTEND;TZID=America/New_York:20160209T193000
DTSTAMP:20260420T074505
CREATED:20160205T213224Z
LAST-MODIFIED:20160205T213225Z
UID:511-1455042600-1455046200@encoreatavalonpark.com
SUMMARY:Avalon Park American Legion
DESCRIPTION:Next Avalon Park American Legion meeting is Feb 9th 6:30 pm – 7:30 pm at The Encore Community Room. \n  \nAll current members and any veteran who has a desire to join\, should attend. \n  \nNew members and those transferring from other American Legion Posts must bring copy of DD214\, check or cash for $35 (make check out to American Legion). \n  \nPOC is Steve Shuga 407.394.5534 or email: shugaste1057@gmail.com.
URL:https://encoreatavalonpark.com/event/avalon-park-american-legion/
LOCATION:Carnegie Hall
CATEGORIES:Community
END:VEVENT
BEGIN:VEVENT
DTSTART;TZID=America/New_York:20160207T160000
DTEND;TZID=America/New_York:20160207T173000
DTSTAMP:20260420T074505
CREATED:20160205T193944Z
LAST-MODIFIED:20160205T193949Z
UID:502-1454860800-1454866200@encoreatavalonpark.com
SUMMARY:Cooking Class
DESCRIPTION:Ditch the diet! Eat Clean 1-Dish at a time! Every Sunday enjoy a fresh\, clean Eating Cooking Class. Take home printed materials. All classes are based on healthy cooking techniques and selected shows will be aired on TV! RSVP: ChefRich@1-Dish.com. Cost is $30/pp.
URL:https://encoreatavalonpark.com/event/cooking-class/
LOCATION:Carnegie Hall
CATEGORIES:Community
END:VEVENT
BEGIN:VEVENT
DTSTART;TZID=America/New_York:20160206T190000
DTEND;TZID=America/New_York:20160206T210000
DTSTAMP:20260420T074505
CREATED:20160205T195028Z
LAST-MODIFIED:20160205T195029Z
UID:507-1454785200-1454792400@encoreatavalonpark.com
SUMMARY:Mission Blue Poker Tournament
DESCRIPTION:Encore is proud to support this poker tournament supporting Mission Blue inc\, an organization is ready to give support in all areas of need to those first responders who have suffered some type of injury. For more information and to register\, please email jeff@copoutfishing.com.
URL:https://encoreatavalonpark.com/event/mission-blue-poker-tournament/
LOCATION:FL
CATEGORIES:Community
END:VEVENT
END:VCALENDAR