BEGIN:VCALENDAR
VERSION:2.0
PRODID:-//Encore at Avalon Park - ECPv6.15.20//NONSGML v1.0//EN
CALSCALE:GREGORIAN
METHOD:PUBLISH
X-ORIGINAL-URL:https://encoreatavalonpark.com
X-WR-CALDESC:Events for Encore at Avalon Park
REFRESH-INTERVAL;VALUE=DURATION:PT1H
X-Robots-Tag:noindex
X-PUBLISHED-TTL:PT1H
BEGIN:VTIMEZONE
TZID:America/New_York
BEGIN:DAYLIGHT
TZOFFSETFROM:-0500
TZOFFSETTO:-0400
TZNAME:EDT
DTSTART:20240310T070000
END:DAYLIGHT
BEGIN:STANDARD
TZOFFSETFROM:-0400
TZOFFSETTO:-0500
TZNAME:EST
DTSTART:20241103T060000
END:STANDARD
BEGIN:DAYLIGHT
TZOFFSETFROM:-0500
TZOFFSETTO:-0400
TZNAME:EDT
DTSTART:20250309T070000
END:DAYLIGHT
BEGIN:STANDARD
TZOFFSETFROM:-0400
TZOFFSETTO:-0500
TZNAME:EST
DTSTART:20251102T060000
END:STANDARD
BEGIN:DAYLIGHT
TZOFFSETFROM:-0500
TZOFFSETTO:-0400
TZNAME:EDT
DTSTART:20260308T070000
END:DAYLIGHT
BEGIN:STANDARD
TZOFFSETFROM:-0400
TZOFFSETTO:-0500
TZNAME:EST
DTSTART:20261101T060000
END:STANDARD
BEGIN:DAYLIGHT
TZOFFSETFROM:-0500
TZOFFSETTO:-0400
TZNAME:EDT
DTSTART:20270314T070000
END:DAYLIGHT
BEGIN:STANDARD
TZOFFSETFROM:-0400
TZOFFSETTO:-0500
TZNAME:EST
DTSTART:20271107T060000
END:STANDARD
END:VTIMEZONE
BEGIN:VEVENT
DTSTART;TZID=America/New_York:20251023T173000
DTEND;TZID=America/New_York:20251023T183000
DTSTAMP:20260421T050838
CREATED:20250819T200929Z
LAST-MODIFIED:20250819T200929Z
UID:15833-1761240600-1761244200@encoreatavalonpark.com
SUMMARY:Family Support Group- October
DESCRIPTION:The transition to assisted living can bring many emotions and uncertainties—for both seniors and their families. Connecting with others who are facing similar experiences can provide strength\, comfort\, and guidance. \nEncore at Avalon Park has partnered with Cornerstone Hospice to create a welcoming support community for families navigating the journey of senior care. Whether you are caring for a loved one\, considering assisted living\, or seeking connection\, this group is here to help you find encouragement and resources. \n Join us for an evening of sharing\, community\, and support on Thursday\, October 23rd from 5:30–6:30 PM at Carnegie Hall.
URL:https://encoreatavalonpark.com/event/family-support-group-october/
CATEGORIES:Activities,Community,Residents Activity
ATTACH;FMTTYPE=image/png:https://encoreatavalonpark.com/wp-content/uploads/2025/08/Family-Support-Group-Encore-Oct.png
END:VEVENT
BEGIN:VEVENT
DTSTART;TZID=America/New_York:20251212T143000
DTEND;TZID=America/New_York:20251212T170000
DTSTAMP:20260421T050838
CREATED:20251120T142838Z
LAST-MODIFIED:20251120T142900Z
UID:16073-1765549800-1765558800@encoreatavalonpark.com
SUMMARY:Holiday Bazaar
DESCRIPTION:Celebrate the season and wrap up your holiday shopping at our annual Holiday Bazaar! \nThis cozy\, community-driven market brings together local makers\, artisans\, and small businesses for an afternoon of festive browsing and cheerful connection. \nGuests are invited to stroll through Carnegie Hall\, discover unique gifts\, and enjoy the warm\, welcoming atmosphere that Encore is known for. Whether you’re hunting for last-minute holiday treasures or simply looking to enjoy a charming seasonal event\, this bazaar is the perfect stop. \n✨ Event Highlights \n\n\nFree admission for all ages \n\n\nA curated selection of local vendors \n\n\nSeasonal goods\, handmade gifts\, and treats \n\n\nA relaxed\, festive environment
URL:https://encoreatavalonpark.com/event/holiday-bazaar-4/
CATEGORIES:Community,Residents Activity
ATTACH;FMTTYPE=image/png:https://encoreatavalonpark.com/wp-content/uploads/2025/11/Encore-Holiday-Bazaar-1-scaled.png
END:VEVENT
BEGIN:VEVENT
DTSTART;TZID=America/New_York:20260206T140000
DTEND;TZID=America/New_York:20260206T170000
DTSTAMP:20260421T050838
CREATED:20260127T153342Z
LAST-MODIFIED:20260127T153342Z
UID:16244-1770386400-1770397200@encoreatavalonpark.com
SUMMARY:Encore Valentine's Day Faire
DESCRIPTION:Hearts\, Smiles & Sweet Finds\nA Valentine’s Vendor Event at Encore at Avalon Park \nJoin us for a joyful afternoon of connection\, community\, and celebration at Hearts\, Smiles & Sweet Finds\, a Valentine’s-themed vendor event hosted by Encore at Avalon Park. \nResidents\, families\, neighbors\, and friends are invited to enjoy a festive gathering filled with local vendors\, sweet treats\, and thoughtful gifts—perfect for celebrating the season of love in a warm and welcoming environment. \nEvent Details \n\n\nDate: Friday\, February 6\, 2026 \n\n\nTime: 2:00 PM – 5:00 PM \n\n\nLocation: Encore at Avalon Park13798 Cygnus Drive\, Orlando\, FL 32828 \n\n\nBrowse unique offerings from local vendors\, connect with our residents and team members\, and enjoy an afternoon centered on kindness\, friendship\, and community spirit. \nWhether you are shopping for something special or simply stopping by to enjoy the atmosphere\, we look forward to celebrating Valentine’s Day together. \n“Let all that you do be done in love.”
URL:https://encoreatavalonpark.com/event/encore-valentines-day-faire/
CATEGORIES:Activities,Community,Residents Activity
ATTACH;FMTTYPE=image/png:https://encoreatavalonpark.com/wp-content/uploads/2026/01/Encore-Valentines-Day-Event-January-2026.png
END:VEVENT
END:VCALENDAR