BEGIN:VCALENDAR
VERSION:2.0
PRODID:-//Encore at Avalon Park - ECPv6.15.20//NONSGML v1.0//EN
CALSCALE:GREGORIAN
METHOD:PUBLISH
X-ORIGINAL-URL:https://encoreatavalonpark.com
X-WR-CALDESC:Events for Encore at Avalon Park
REFRESH-INTERVAL;VALUE=DURATION:PT1H
X-Robots-Tag:noindex
X-PUBLISHED-TTL:PT1H
BEGIN:VTIMEZONE
TZID:America/New_York
BEGIN:DAYLIGHT
TZOFFSETFROM:-0500
TZOFFSETTO:-0400
TZNAME:EDT
DTSTART:20130310T070000
END:DAYLIGHT
BEGIN:STANDARD
TZOFFSETFROM:-0400
TZOFFSETTO:-0500
TZNAME:EST
DTSTART:20131103T060000
END:STANDARD
BEGIN:DAYLIGHT
TZOFFSETFROM:-0500
TZOFFSETTO:-0400
TZNAME:EDT
DTSTART:20140309T070000
END:DAYLIGHT
BEGIN:STANDARD
TZOFFSETFROM:-0400
TZOFFSETTO:-0500
TZNAME:EST
DTSTART:20141102T060000
END:STANDARD
BEGIN:DAYLIGHT
TZOFFSETFROM:-0500
TZOFFSETTO:-0400
TZNAME:EDT
DTSTART:20150308T070000
END:DAYLIGHT
BEGIN:STANDARD
TZOFFSETFROM:-0400
TZOFFSETTO:-0500
TZNAME:EST
DTSTART:20151101T060000
END:STANDARD
END:VTIMEZONE
BEGIN:VEVENT
DTSTART;TZID=America/New_York:20141110T183000
DTEND;TZID=America/New_York:20141110T200000
DTSTAMP:20260422T072851
CREATED:20141107T175523Z
LAST-MODIFIED:20141107T175740Z
UID:239-1415644200-1415649600@encoreatavalonpark.com
SUMMARY:November Caregiver Support Meeting
DESCRIPTION:
URL:https://encoreatavalonpark.com/event/november-caregiver-support-meeting/
CATEGORIES:Community
ATTACH;FMTTYPE=image/jpeg:https://encoreatavalonpark.com/wp-content/uploads/2014/11/Caregiver-Support-Group-Nov-Updated-Location.jpg
END:VEVENT
BEGIN:VEVENT
DTSTART;TZID=America/New_York:20141118T173000
DTEND;TZID=America/New_York:20141118T193000
DTSTAMP:20260422T072851
CREATED:20140806T214427Z
LAST-MODIFIED:20140806T214427Z
UID:163-1416331800-1416339000@encoreatavalonpark.com
SUMMARY:Encore at Avalon Park Grand Opening
DESCRIPTION:You are cordially invited to attend the Grand Opening and Ribbon Cutting Ceremony of Encore at Avalon Park Assisted Living and Memory Care Community
URL:https://encoreatavalonpark.com/event/encore-avalon-park-grand-opening/
LOCATION:Encore at Avalon Park\, 13798 Cygnus Drive\, Orlando\, FL\, 32828\, United States
ATTACH;FMTTYPE=image/jpeg:https://encoreatavalonpark.com/wp-content/uploads/2014/08/Encore-Ribbon-Ceremony.jpg
END:VEVENT
END:VCALENDAR