BEGIN:VCALENDAR
VERSION:2.0
PRODID:-//Encore at Avalon Park - ECPv6.15.20//NONSGML v1.0//EN
CALSCALE:GREGORIAN
METHOD:PUBLISH
X-ORIGINAL-URL:https://encoreatavalonpark.com
X-WR-CALDESC:Events for Encore at Avalon Park
REFRESH-INTERVAL;VALUE=DURATION:PT1H
X-Robots-Tag:noindex
X-PUBLISHED-TTL:PT1H
BEGIN:VTIMEZONE
TZID:America/New_York
BEGIN:DAYLIGHT
TZOFFSETFROM:-0500
TZOFFSETTO:-0400
TZNAME:EDT
DTSTART:20140309T070000
END:DAYLIGHT
BEGIN:STANDARD
TZOFFSETFROM:-0400
TZOFFSETTO:-0500
TZNAME:EST
DTSTART:20141102T060000
END:STANDARD
BEGIN:DAYLIGHT
TZOFFSETFROM:-0500
TZOFFSETTO:-0400
TZNAME:EDT
DTSTART:20150308T070000
END:DAYLIGHT
BEGIN:STANDARD
TZOFFSETFROM:-0400
TZOFFSETTO:-0500
TZNAME:EST
DTSTART:20151101T060000
END:STANDARD
BEGIN:DAYLIGHT
TZOFFSETFROM:-0500
TZOFFSETTO:-0400
TZNAME:EDT
DTSTART:20160313T070000
END:DAYLIGHT
BEGIN:STANDARD
TZOFFSETFROM:-0400
TZOFFSETTO:-0500
TZNAME:EST
DTSTART:20161106T060000
END:STANDARD
END:VTIMEZONE
BEGIN:VEVENT
DTSTART;TZID=America/New_York:20150504T183000
DTEND;TZID=America/New_York:20150504T200000
DTSTAMP:20260420T001157
CREATED:20150105T152040Z
LAST-MODIFIED:20150123T153114Z
UID:260-1430764200-1430769600@encoreatavalonpark.com
SUMMARY:May Caregiver Support Group
DESCRIPTION:
URL:https://encoreatavalonpark.com/event/may-caregiver-support-group/
LOCATION:Encore at Avalon Park\, 13798 Cygnus Drive\, Orlando\, FL\, 32828\, United States
CATEGORIES:Community
END:VEVENT
BEGIN:VEVENT
DTSTART;TZID=America/New_York:20150505T173000
DTEND;TZID=America/New_York:20150505T193000
DTSTAMP:20260420T001157
CREATED:20150424T203707Z
LAST-MODIFIED:20150424T203707Z
UID:383-1430847000-1430854200@encoreatavalonpark.com
SUMMARY:The Conversation Project
DESCRIPTION:
URL:https://encoreatavalonpark.com/event/conversation-project/
LOCATION:Carnegie Hall
CATEGORIES:Community
END:VEVENT
BEGIN:VEVENT
DTSTART;TZID=America/New_York:20150509T080000
DTEND;TZID=America/New_York:20150509T100000
DTSTAMP:20260420T001157
CREATED:20150424T210812Z
LAST-MODIFIED:20150424T210812Z
UID:385-1431158400-1431165600@encoreatavalonpark.com
SUMMARY:Arthritis Walk
DESCRIPTION:Join our team:  http://walktocurearthritis.orlando.kintera.org/faf/search/searchTeamPart.asp?ievent=1123810&lis=1&kntae1123810=5243D35897794FE5B276641333A35830&team=6312590&tlteam=0
URL:https://encoreatavalonpark.com/event/arthritis-walk/
LOCATION:Lake Eola
CATEGORIES:Community
END:VEVENT
BEGIN:VEVENT
DTSTART;TZID=America/New_York:20150528T180000
DTEND;TZID=America/New_York:20150528T190000
DTSTAMP:20260420T001157
CREATED:20150424T202740Z
LAST-MODIFIED:20150424T202759Z
UID:375-1432836000-1432839600@encoreatavalonpark.com
SUMMARY:Osteoporosis\, Osteoarthritis\, and Preventing Joint Pain
DESCRIPTION:
URL:https://encoreatavalonpark.com/event/osteoporosis-osteoarthritis-preventing-joint-pain/
LOCATION:Carnegie Hall
CATEGORIES:Community
END:VEVENT
END:VCALENDAR